BEGIN:VCALENDAR
VERSION:2.0
BEGIN:VEVENT
DTSTART;TZID=Europe/Stockholm:20251214T160000
DTEND;TZID=Europe/Stockholm:20251214T170000
DTSTAMP:20260420T013952
DESCRIPTION:BUS-bandet medverkar
Kyrkkaffe efter gudstjänsten. Alla varmt välkomna!
SEQUENCE:0
SUMMARY:GUDSTJÄNST MED JULFEST FÖR ALLA ÅLDRAR
UID:5794@lawebb.se
END:VEVENT
END:VCALENDAR