BEGIN:VCALENDAR
VERSION:2.0
BEGIN:VEVENT
DTSTART;TZID=Europe/Stockholm:20251221T103000
DTEND;TZID=Europe/Stockholm:20251221T113000
DTSTAMP:20260420T013909
DESCRIPTION:Predikan av Javier Jimenez från Spanien
Sång av Ing-Marie Adolfsson och Monica Eriksson.
Sång/lovsång, predikan, bön/förbön och gemenskap. #Kyrkkaffe efter gudstjänsten.# 
*Alla varmt välkomna!*
SEQUENCE:0
SUMMARY:ADVENTSGUDSTJÄNST
UID:9852@lawebb.se
END:VEVENT
END:VCALENDAR