BEGIN:VCALENDAR
VERSION:2.0
BEGIN:VEVENT
DTSTART;TZID=Europe/Stockholm:20251224T103000
DTEND;TZID=Europe/Stockholm:20251224T113000
DTSTAMP:20260420T014023
DESCRIPTION:Predikan av Christian Andersson.
Sång av Niclas och Karin Eriksson.
Mingelfika i entrén efter gudstjänsten. 
Alla varmt välkomna!
SEQUENCE:0
SUMMARY:JULAFTONSGUDSTJÄNST
UID:3532@lawebb.se
END:VEVENT
END:VCALENDAR