BEGIN:VCALENDAR
VERSION:2.0
BEGIN:VEVENT
DTSTART;TZID=Europe/Stockholm:20251226T170000
DTEND;TZID=Europe/Stockholm:20251226T180000
DTSTAMP:20260420T013952
DESCRIPTION:Vi är tillsammans i Pingstkyrkan denna gång.
Sång av Ing-Marie Adolfsson, Veronica Larsson, Therese Hasselgren med flera.
Apell av Torbjörn Pettersson
SEQUENCE:0
SUMMARY:JULENS SÅNGER TILLSAMMANS MED BETELFÖRSAMLINGEN
UID:4399@lawebb.se
END:VEVENT
END:VCALENDAR