BEGIN:VCALENDAR
VERSION:2.0
BEGIN:VEVENT
DTSTART;TZID=Europe/Stockholm:20240103T103000
DTEND;TZID=Europe/Stockholm:20240103T113000
DTSTAMP:20260419T185900
DESCRIPTION:Vi ber till klockan 11:30
SEQUENCE:0
SUMMARY:BÖN
UID:8725@lawebb.se
END:VEVENT
END:VCALENDARBEGIN:VCALENDAR
VERSION:2.0
BEGIN:VEVENT
DTSTART;TZID=Europe/Stockholm:20251231T103100
DTEND;TZID=Europe/Stockholm:20251231T113100
DTSTAMP:20260420T013724
DESCRIPTION:Vi ber även denna onsdag till 11:30
SEQUENCE:0
SUMMARY:BÖN
UID:8599@lawebb.se
END:VEVENT
END:VCALENDAR