BEGIN:VCALENDAR
VERSION:2.0
BEGIN:VEVENT
DTSTART;TZID=Europe/Stockholm:20260104T103000
DTEND;TZID=Europe/Stockholm:20260104T113000
DTSTAMP:20260419T234722
DESCRIPTION:Predikan av Christian Andersson.
Sång av Jonathan Prüss, Fredrik Groth och Timothy Axelsson med flera.
Sång/lovsång, predikan, bön/förbön och gemenskap. 
#Kyrkkaffe efter gudstjänsten.# 
*Alla varmt välkomna!*
SEQUENCE:0
SUMMARY:GUDSTJÄNST MED ÅRSMÖTE OCH NATTVARD
UID:5454@lawebb.se
END:VEVENT
END:VCALENDAR