BEGIN:VCALENDAR
VERSION:2.0
BEGIN:VEVENT
DTSTART;TZID=Europe/Stockholm:20260111T103000
DTEND;TZID=Europe/Stockholm:20260111T113000
DTSTAMP:20260419T234912
DESCRIPTION:Predikan av Sara Eriksson.
Sång av Niclas och Karin Eriksson.
Sång/lovsång, predikan, bön/förbön och gemenskap. 
#Kyrkkaffe efter gudstjänsten.# 
*Alla varmt välkomna!*
SEQUENCE:0
SUMMARY:AVTACKNINGSGUDSTJÄNST FÖR SARA
UID:9746@lawebb.se
END:VEVENT
END:VCALENDAR