BEGIN:VCALENDAR
VERSION:2.0
BEGIN:VEVENT
DTSTART;TZID=Europe/Stockholm:20260113T143000
DTEND;TZID=Europe/Stockholm:20260113T153000
DTSTAMP:20260419T235006
DESCRIPTION:OBS INSTÄLLT INSTÄLLT OBS
SEQUENCE:0
SUMMARY:ANDAKT PÅ BRUNNSGÅRDEN
UID:7435@lawebb.se
END:VEVENT
END:VCALENDAR