BEGIN:VCALENDAR
VERSION:2.0
BEGIN:VEVENT
DTSTART;TZID=Europe/Stockholm:20260118T103000
DTEND;TZID=Europe/Stockholm:20260118T113000
DTSTAMP:20260419T234912
DESCRIPTION:Predikan av Kjell Ström.
Sång av Jennifer Bergström med flera.
Sång/lovsång, predikan, bön/förbön och gemenskap. 
#Kyrkkaffe efter gudstjänsten.# 
*Alla varmt välkomna!*
SEQUENCE:0
SUMMARY:GUDSTJÄNST
UID:3628@lawebb.se
END:VEVENT
END:VCALENDAR