BEGIN:VCALENDAR
VERSION:2.0
BEGIN:VEVENT
DTSTART;TZID=Europe/Stockholm:20260119T000000
DTEND;TZID=Europe/Stockholm:20260119T240000
DTSTAMP:20260419T235006
DESCRIPTION:Ekumeniska böneveckan, varje kväll börjar kl 18. Fredagkvällen är i Pingstkyrkan.
SEQUENCE:0
SUMMARY:EKUMENISKA BÖNEVECKAN
UID:4552@lawebb.se
END:VEVENT
END:VCALENDAR