BEGIN:VCALENDAR
VERSION:2.0
BEGIN:VEVENT
DTSTART;TZID=Europe/Stockholm:20260120T180000
DTEND;TZID=Europe/Stockholm:20260120T190000
DTSTAMP:20260419T235033
DESCRIPTION:....i Equmeniakyrkan.
Predikan av Christian Andersson.
SEQUENCE:0
SUMMARY:EKUMENISKA BÖNEVECKAN
UID:2378@lawebb.se
END:VEVENT
END:VCALENDAR