BEGIN:VCALENDAR
VERSION:2.0
BEGIN:VEVENT
DTSTART;TZID=Europe/Stockholm:20260121T103000
DTEND;TZID=Europe/Stockholm:20260121T113000
DTSTAMP:20260419T234436
DESCRIPTION:Vi ber till klockan 11:30.
SEQUENCE:0
SUMMARY:BÖN
UID:8688@lawebb.se
END:VEVENT
END:VCALENDAR