BEGIN:VCALENDAR
VERSION:2.0
BEGIN:VEVENT
DTSTART;TZID=Europe/Stockholm:20260121T180000
DTEND;TZID=Europe/Stockholm:20260121T190000
DTSTAMP:20260419T234635
DESCRIPTION:.....i Betelkyrkan. Predikan av Peter Henningsson.
SEQUENCE:0
SUMMARY:EKUMENISKA BÖNEVECKAN
UID:6586@lawebb.se
END:VEVENT
END:VCALENDAR