BEGIN:VCALENDAR
VERSION:2.0
BEGIN:VEVENT
DTSTART;TZID=Europe/Stockholm:20260122T180000
DTEND;TZID=Europe/Stockholm:20260122T190000
DTSTAMP:20260419T235032
DESCRIPTION:.....i Ljungby Kyrka. Predikan av Torgny Johansson.
SEQUENCE:0
SUMMARY:EKUMENISKA BÖNEVECKAN
UID:7568@lawebb.se
END:VEVENT
END:VCALENDAR