BEGIN:VCALENDAR
VERSION:2.0
BEGIN:VEVENT
DTSTART;TZID=Europe/Stockholm:20260123T180000
DTEND;TZID=Europe/Stockholm:20260123T190000
DTSTAMP:20260419T235007
DESCRIPTION:.....i Pingstkyrkan. Predikan av Alexander Backlund.
SEQUENCE:0
SUMMARY:EKUMENISKA BÖNEVECKAN
UID:2858@lawebb.se
END:VEVENT
END:VCALENDAR