BEGIN:VCALENDAR
VERSION:2.0
BEGIN:VEVENT
DTSTART;TZID=Europe/Stockholm:20260124T180000
DTEND;TZID=Europe/Stockholm:20260124T190000
DTSTAMP:20260419T234825
DESCRIPTION:....i Allianskyrkan. Predikan av Jörgen Eklund
SEQUENCE:0
SUMMARY:EKUMENISKA BÖNEVECKAN
UID:8547@lawebb.se
END:VEVENT
END:VCALENDAR