BEGIN:VCALENDAR
VERSION:2.0
BEGIN:VEVENT
DTSTART;TZID=Europe/Stockholm:20260125T103000
DTEND;TZID=Europe/Stockholm:20260125T113000
DTSTAMP:20260419T234824
DESCRIPTION:Besök av Anna & Henrik Thornell.
Sång av Sara Eriksson med flera.
Sång/lovsång, predikan, bön/förbön och gemenskap. 
#Kyrkkaffe efter gudstjänsten.# 
*Alla varmt välkomna!*
SEQUENCE:0
SUMMARY:GUDSTJÄNST
UID:4734@lawebb.se
END:VEVENT
END:VCALENDAR