BEGIN:VCALENDAR
VERSION:2.0
BEGIN:VEVENT
DTSTART;TZID=Europe/Stockholm:20260131T180000
DTEND;TZID=Europe/Stockholm:20260131T190000
DTSTAMP:20260419T234603
DESCRIPTION:Cafékväll med Gert och Marita Thorén som berättar om sina Ukrainaresor.
SEQUENCE:0
SUMMARY:CAFÉKVÄLL - UKRAINAAMBULANSEN
UID:4242@lawebb.se
END:VEVENT
END:VCALENDAR