BEGIN:VCALENDAR
VERSION:2.0
BEGIN:VEVENT
DTSTART;TZID=Europe/Stockholm:20260201T103000
DTEND;TZID=Europe/Stockholm:20260201T113000
DTSTAMP:20260419T220120
DESCRIPTION:Predikan av Christian Andersson.
Sång av Therese Hasselgren, Markus Hellgren och Veronika Larsson.
*Efter gudstjänsten extra församlingsmöte gällande kallelse av ny barnpastor.*
Sång/lovsång, predikan, bön/förbön och gemenskap. 
#Kyrkkaffe efter gudstjänsten.# 
*Alla varmt välkomna!*
SEQUENCE:0
SUMMARY:GUDSTJÄNST MED HHN OCH EXTRA FÖRSAMLINGSMÖTE
UID:3489@lawebb.se
END:VEVENT
END:VCALENDAR