BEGIN:VCALENDAR
VERSION:2.0
BEGIN:VEVENT
DTSTART;TZID=Europe/Stockholm:20260208T103000
DTEND;TZID=Europe/Stockholm:20260208T113000
DTSTAMP:20260419T220120
DESCRIPTION:Predikan av Christian Andersson.
Sång av Ing-Marie Adolfsson, Fredrik Groth med flera.
Sång/lovsång, predikan, bön/förbön och gemenskap. 
#Kyrkkaffe efter gudstjänsten.# 
*Alla varmt välkomna!*
SEQUENCE:0
SUMMARY:GUDSTJÄNST MED PARENTATION EFTER ELLEN JOHANSSON
UID:2944@lawebb.se
END:VEVENT
END:VCALENDAR