BEGIN:VCALENDAR
VERSION:2.0
BEGIN:VEVENT
DTSTART;TZID=Europe/Stockholm:20260217T144500
DTEND;TZID=Europe/Stockholm:20260217T154500
DTSTAMP:20260419T215742
DESCRIPTION:
SEQUENCE:0
SUMMARY:INGET KÄLLAR´N PGA SPORTLOV
UID:2346@lawebb.se
END:VEVENT
END:VCALENDAR