BEGIN:VCALENDAR
VERSION:2.0
BEGIN:VEVENT
DTSTART;TZID=Europe/Stockholm:20260219T110000
DTEND;TZID=Europe/Stockholm:20260219T120000
DTSTAMP:20260419T215820
DESCRIPTION:Så har vår mångåriga medlem och missionär Ellen Johansson, fått flytta hem till sitt himmelska hem.
Begravningsakten, och så även minnesstunden, hålls i Pingstkyrkan i Ljungby. 
För deltagande i minnesstunden krävs anmälan till Bjerstafs Begravningsbyrå i Ljungby.
SEQUENCE:0
SUMMARY:BEGRAVNINGSAKT ELLEN JOHANSSON
UID:9847@lawebb.se
END:VEVENT
END:VCALENDAR