BEGIN:VCALENDAR
VERSION:2.0
BEGIN:VEVENT
DTSTART;TZID=Europe/Stockholm:20260220T193000
DTEND;TZID=Europe/Stockholm:20260220T203000
DTSTAMP:20260419T215819
DESCRIPTION:Detta är en provapåkväll för 6-klassare. Så välkomna ni ungdomar som går i sjätte klass.
Encounter är en plats för ungdomar från 7an till 3an på gymnasiet. Där träffas vi för att umgås, träffa nya kompisar och lära känna Jesus.
DU ÄR VÄLKOMMEN!
Kvällarna startar kl.19:30 i Ljungby Pingstkyrka. 
Läs på våra sociala medier om event och information (Instagram (primärt), Facebook, Tiktok, Snapchat  - encounter.lj).
Mer information kan du också hitta på vår hemsida under fliken 
Barn och ungdom/Encounter
Vi ses på fredag!
SEQUENCE:0
SUMMARY:ENCOUNTER. ÄVEN 6-KLASSARE VÄLKOMNA DENNA KVÄLL
UID:5422@lawebb.se
END:VEVENT
END:VCALENDAR