BEGIN:VCALENDAR
VERSION:2.0
BEGIN:VEVENT
DTSTART;TZID=Europe/Stockholm:20260221T100000
DTEND;TZID=Europe/Stockholm:20260221T110000
DTSTAMP:20260419T220120
DESCRIPTION:Serveringen är öppen 10:00 - 12:30 men du kan sitta kvar till 13:00. Servering av Kaffe, The, Kaffebröd, Våfflor med sylt och grädde, mm. 
*Varmt välkomna till en fika i trevlig miljö!*
SEQUENCE:0
SUMMARY:CAFÉ AXET
UID:3293@lawebb.se
END:VEVENT
END:VCALENDAR