BEGIN:VCALENDAR
VERSION:2.0
BEGIN:VEVENT
DTSTART;TZID=Europe/Stockholm:20260222T103000
DTEND;TZID=Europe/Stockholm:20260222T113000
DTSTAMP:20260419T220119
DESCRIPTION:Predikan av Mattias Olsson.
Sång av Jennifer Bergström med flera.
Sång/lovsång, predikan, bön/förbön och gemenskap. 
#Kyrkkaffe efter gudstjänsten.# 
*Alla varmt välkomna!*
SEQUENCE:0
SUMMARY:GUDSTJÄNST
UID:4388@lawebb.se
END:VEVENT
END:VCALENDAR