BEGIN:VCALENDAR
VERSION:2.0
BEGIN:VEVENT
DTSTART;TZID=Europe/Stockholm:20260301T103000
DTEND;TZID=Europe/Stockholm:20260301T113000
DTSTAMP:20260419T200640
DESCRIPTION:Predikan av Christian Andersson.
Sång av Olivia Andersson med flera.
Sång/lovsång, predikan, bön/förbön och gemenskap. 
#Kyrkkaffe efter gudstjänsten.# 
*Alla varmt välkomna!*
SEQUENCE:0
SUMMARY:GUDSTJÄNST
UID:2466@lawebb.se
END:VEVENT
END:VCALENDAR