BEGIN:VCALENDAR
VERSION:2.0
BEGIN:VEVENT
DTSTART;TZID=Europe/Stockholm:20260314T000000
DTEND;TZID=Europe/Stockholm:20260314T240000
DTSTAMP:20260419T200646
DESCRIPTION:Gruppen &#34;Helhet genom Kristus&#34; medverkar med temat &#34;Fri att leva&#34;.
För tider, se nedan.
SEQUENCE:0
SUMMARY:BIBEL- OCH FÖRBÖNSHELG
UID:7847@lawebb.se
END:VEVENT
END:VCALENDAR