BEGIN:VCALENDAR
VERSION:2.0
BEGIN:VEVENT
DTSTART;TZID=Europe/Stockholm:20260331T144500
DTEND;TZID=Europe/Stockholm:20260331T154500
DTSTAMP:20260419T200353
DESCRIPTION:
SEQUENCE:0
SUMMARY:INGEN KÄLLAR´N PGA PÅSKLOV
UID:9269@lawebb.se
END:VEVENT
END:VCALENDAR