BEGIN:VCALENDAR
VERSION:2.0
BEGIN:VEVENT
DTSTART;TZID=Europe/Stockholm:20260402T190000
DTEND;TZID=Europe/Stockholm:20260402T200000
DTSTAMP:20260419T181043
DESCRIPTION:
SEQUENCE:0
SUMMARY:GEMENSAM GETSEMANESTUND I BETELKYRKAN
UID:4788@lawebb.se
END:VEVENT
END:VCALENDAR