BEGIN:VCALENDAR
VERSION:2.0
BEGIN:VEVENT
DTSTART;TZID=Europe/Stockholm:20260403T103000
DTEND;TZID=Europe/Stockholm:20260403T113000
DTSTAMP:20260419T181859
DESCRIPTION:Predikan av Peter Jansson.
Sång av Percy Bergman och Gisela Nygren.
Lovsång, predikan, bön/förbön och gemenskap.
Alla varmt välkomna!
SEQUENCE:0
SUMMARY:LÅNGFREDAGSGUDSTJÄNST
UID:7733@lawebb.se
END:VEVENT
END:VCALENDAR