BEGIN:VCALENDAR
VERSION:2.0
BEGIN:VEVENT
DTSTART;TZID=Europe/Stockholm:20260405T103000
DTEND;TZID=Europe/Stockholm:20260405T113000
DTSTAMP:20260419T182032
DESCRIPTION:Dialogpredikan mellan Christian Andersson och Jennifer Bergström.
Sång av Sara Eriksson med flera.
Lovsång, predikan, bön/förbön och gemenskap. 
#Kyrkkaffe efter gudstjänsten.# 
*Alla varmt välkomna!*
SEQUENCE:0
SUMMARY:PÅSKGUDSTJÄNST
UID:2377@lawebb.se
END:VEVENT
END:VCALENDAR