BEGIN:VCALENDAR
VERSION:2.0
BEGIN:VEVENT
DTSTART;TZID=Europe/Stockholm:20260406T110000
DTEND;TZID=Europe/Stockholm:20260406T120000
DTSTAMP:20260419T181042
DESCRIPTION:Start vid Mariakyrkan.                                                   
Avslutning i Ljungby kyrka klockan 12:30
SEQUENCE:0
SUMMARY:EKUMENISK PÅSKVANDRING
UID:2434@lawebb.se
END:VEVENT
END:VCALENDAR