BEGIN:VCALENDAR
VERSION:2.0
BEGIN:VEVENT
DTSTART;TZID=Europe/Stockholm:20260408T103000
DTEND;TZID=Europe/Stockholm:20260408T113000
DTSTAMP:20260419T180916
DESCRIPTION:Vi ber till klockan 11:30.
SEQUENCE:0
SUMMARY:BÖN
UID:9356@lawebb.se
END:VEVENT
END:VCALENDAR