BEGIN:VCALENDAR
VERSION:2.0
BEGIN:VEVENT
DTSTART;TZID=Europe/Stockholm:20260411T180000
DTEND;TZID=Europe/Stockholm:20260411T190000
DTSTAMP:20260419T181858
DESCRIPTION:Andliga sånger som det svänger om.
Inget inträde. 
Varmt välkomna!
Fika efter konserten.
SEQUENCE:0
SUMMARY:KONSERT MED JANNEHENRIX OCH GUDRUN SEIFERT
UID:4786@lawebb.se
END:VEVENT
END:VCALENDAR