BEGIN:VCALENDAR
VERSION:2.0
BEGIN:VEVENT
DTSTART;TZID=Europe/Stockholm:20260412T103000
DTEND;TZID=Europe/Stockholm:20260412T113000
DTSTAMP:20260419T181900
DESCRIPTION:Predikan av Christian Andersson.
Sång av Olivia Andersson med flera.
Lovsång, predikan, bön/förbön och gemenskap. 
Fika efter gudstjänsten.
*Alla varmt välkomna!*
SEQUENCE:0
SUMMARY:GUDSTJÄNST MED NATTVARD OCH DOP
UID:9582@lawebb.se
END:VEVENT
END:VCALENDAR