BEGIN:VCALENDAR
VERSION:2.0
BEGIN:VEVENT
DTSTART;TZID=Europe/Stockholm:20260413T140000
DTEND;TZID=Europe/Stockholm:20260413T150000
DTSTAMP:20260419T181959
DESCRIPTION:
SEQUENCE:0
SUMMARY:MISSIONSSYGRUPPEN
UID:8233@lawebb.se
END:VEVENT
END:VCALENDAR