BEGIN:VCALENDAR
VERSION:2.0
BEGIN:VEVENT
DTSTART;TZID=Europe/Stockholm:20260419T103000
DTEND;TZID=Europe/Stockholm:20260419T113000
DTSTAMP:20260419T182031
DESCRIPTION:Predikan av Kjell Ström.
Sång av ett antal av församlingens sångare och musiker under ledning av Ing-Marie Adolfsson.
Lovsång, predikan, bön/förbön och gemenskap. 
#Kyrkkaffe efter gudstjänsten.# 
*Alla varmt välkomna!*
SEQUENCE:0
SUMMARY:GUDSTJÄNST
UID:5522@lawebb.se
END:VEVENT
END:VCALENDAR