BEGIN:VCALENDAR
VERSION:2.0
BEGIN:VEVENT
DTSTART;TZID=Europe/Stockholm:20260426T103000
DTEND;TZID=Europe/Stockholm:20260426T113000
DTSTAMP:20260419T181859
DESCRIPTION:Predikan av Helen Olsson.
Sång av Joysingers under ledning av Gisela Nygren.
Lovsång, predikan, bön/förbön och gemenskap. 
#Kyrkkaffe efter gudstjänsten.# 
*Alla varmt välkomna!*
SEQUENCE:0
SUMMARY:GUDSTJÄNST
UID:3632@lawebb.se
END:VEVENT
END:VCALENDAR