BEGIN:VCALENDAR
VERSION:2.0
BEGIN:VEVENT
DTSTART;TZID=Europe/Stockholm:20260427T140000
DTEND;TZID=Europe/Stockholm:20260427T150000
DTSTAMP:20260419T181858
DESCRIPTION:
SEQUENCE:0
SUMMARY:MISSIONSSYGRUPPEN
UID:7756@lawebb.se
END:VEVENT
END:VCALENDAR