BEGIN:VCALENDAR
VERSION:2.0
BEGIN:VEVENT
DTSTART;TZID=Europe/Stockholm:20260428T144500
DTEND;TZID=Europe/Stockholm:20260428T154500
DTSTAMP:20260419T180855
DESCRIPTION:Fritidsgården Källar&#39;n 14:45-17:30. 
För alla barn i årskurs 3-6 
Mer info under fliken &#34;Barn och Ungdom&#34;
SEQUENCE:0
SUMMARY:KÄLLAR´N
UID:6247@lawebb.se
END:VEVENT
END:VCALENDAR