BEGIN:VCALENDAR
VERSION:2.0
BEGIN:VEVENT
DTSTART;TZID=Europe/Stockholm:20260428T150000
DTEND;TZID=Europe/Stockholm:20260428T160000
DTSTAMP:20260419T181042
DESCRIPTION:Välkomna att lyssna på en enkel andakt.
SEQUENCE:0
SUMMARY:ANDAKT PÅ ÅSIKTEN
UID:3692@lawebb.se
END:VEVENT
END:VCALENDAR