BEGIN:VCALENDAR
VERSION:2.0
BEGIN:VEVENT
DTSTART;TZID=Europe/Stockholm:20260503T103000
DTEND;TZID=Europe/Stockholm:20260503T113000
DTSTAMP:20260419T200639
DESCRIPTION:Predikan av Christian Andersson.
Sång av Olivia Andersson med flera.
Lovsång, predikan, bön/förbön och gemenskap. 
#Kyrkkaffe efter gudstjänsten.# 
*Alla varmt välkomna!*
SEQUENCE:0
SUMMARY:GUDSTJÄNST
UID:5886@lawebb.se
END:VEVENT
END:VCALENDAR