BEGIN:VCALENDAR
VERSION:2.0
BEGIN:VEVENT
DTSTART;TZID=Europe/Stockholm:20260510T103000
DTEND;TZID=Europe/Stockholm:20260510T113000
DTSTAMP:20260419T200640
DESCRIPTION:Predikan av Christian Andersson.
Sång av Sara Eriksson, Mia Tuner med flera.
Lovsång, predikan, bön/förbön och gemenskap. 
#Kyrkkaffe efter gudstjänsten.# 
*Alla varmt välkomna!*
SEQUENCE:0
SUMMARY:GUDSTJÄNST MED NATTVARD
UID:8963@lawebb.se
END:VEVENT
END:VCALENDAR