BEGIN:VCALENDAR
VERSION:2.0
BEGIN:VEVENT
DTSTART;TZID=Europe/Stockholm:20260511T140000
DTEND;TZID=Europe/Stockholm:20260511T150000
DTSTAMP:20260419T200646
DESCRIPTION:
SEQUENCE:0
SUMMARY:MISSIONSSYGRUPPEN
UID:7489@lawebb.se
END:VEVENT
END:VCALENDAR