BEGIN:VCALENDAR
VERSION:2.0
BEGIN:VEVENT
DTSTART;TZID=Europe/Stockholm:20260517T103000
DTEND;TZID=Europe/Stockholm:20260517T113000
DTSTAMP:20260419T200640
DESCRIPTION:Predikan av Donald Johannesson.
Sång av Jonathan Pruss med flera.
Lovsång, predikan, bön/förbön och gemenskap. 
#Kyrkkaffe efter gudstjänsten.# 
*Alla varmt välkomna!*
SEQUENCE:0
SUMMARY:GUDSTJÄNST
UID:6927@lawebb.se
END:VEVENT
END:VCALENDAR