BEGIN:VCALENDAR
VERSION:2.0
BEGIN:VEVENT
DTSTART;TZID=Europe/Stockholm:20260524T103000
DTEND;TZID=Europe/Stockholm:20260524T113000
DTSTAMP:20260419T200640
DESCRIPTION:BUS-bandet med flera medverkar.
Sång/lovsång, predikan, bön/förbön och gemenskap. 
#Fika efter gudstjänsten.# 
*Alla varmt välkomna!*
SEQUENCE:0
SUMMARY:TILLSAMMANSGUDSTJÄNST
UID:8737@lawebb.se
END:VEVENT
END:VCALENDAR