BEGIN:VCALENDAR
VERSION:2.0
BEGIN:VEVENT
DTSTART;TZID=Europe/Stockholm:20260525T000000
DTEND;TZID=Europe/Stockholm:20260525T240000
DTSTAMP:20260419T200640
DESCRIPTION:Denna vecka har Pingstkyrkan ansvar för morgonandakterna i Ljungby Närradio. Du kan lyssna 06:15, 08:30 och 22:00 på frekvensen 95,8 MHz.
SEQUENCE:0
SUMMARY:MORGONANDAKTER
UID:7633@lawebb.se
END:VEVENT
END:VCALENDAR