BEGIN:VCALENDAR
VERSION:2.0
BEGIN:VEVENT
DTSTART;TZID=Europe/Stockholm:20260527T103000
DTEND;TZID=Europe/Stockholm:20260527T113000
DTSTAMP:20260419T200400
DESCRIPTION:Vi ber till klockan 11:30.
SEQUENCE:0
SUMMARY:BÖN
UID:3596@lawebb.se
END:VEVENT
END:VCALENDAR