BEGIN:VCALENDAR
VERSION:2.0
BEGIN:VEVENT
DTSTART;TZID=Europe/Stockholm:20260607T103000
DTEND;TZID=Europe/Stockholm:20260607T113000
DTSTAMP:20260419T220119
DESCRIPTION:Sång av Jennifer Bergström och Mia Tuner med flera.
Lovsång, predikan, bön/förbön och gemenskap. 
#Kyrkkaffe efter gudstjänsten.# 
*Alla varmt välkomna!*
SEQUENCE:0
SUMMARY:GUDSTJÄNST
UID:3496@lawebb.se
END:VEVENT
END:VCALENDAR