BEGIN:VCALENDAR
VERSION:2.0
BEGIN:VEVENT
DTSTART;TZID=Europe/Stockholm:20260614T103000
DTEND;TZID=Europe/Stockholm:20260614T113000
DTSTAMP:20260419T220119
DESCRIPTION:Sång av Jonathan Pruss och Gisela Nygren.
Lovsång, predikan, bön/förbön och gemenskap. 
#Kyrkkaffe efter gudstjänsten.# 
*Alla varmt välkomna!*
SEQUENCE:0
SUMMARY:GUDSTJÄNST MED NATTVARD
UID:5657@lawebb.se
END:VEVENT
END:VCALENDAR